BEGIN:VCALENDAR
VERSION:2.0
PRODID:-//cmfhawaii.org//eCatholic//EN
X-WR-TIMEZONE:LocalTZ
BEGIN:VTIMEZONE
TZID:LocalTZ
X-LIC-LOCATION:LocalTZ
BEGIN:DAYLIGHT
TZOFFSETFROM:-1000
TZOFFSETTO:-1000
TZNAME:LocalTZ
DTSTART:19700308T020000
RRULE:FREQ=YEARLY;BYMONTH=3;BYDAY=2SU
END:DAYLIGHT
BEGIN:STANDARD
TZOFFSETFROM:-1000
TZOFFSETTO:-1000
TZNAME:LocalTZ
DTSTART:19701101T020000
RRULE:FREQ=YEARLY;BYMONTH=11;BYDAY=1SU
END:STANDARD
END:VTIMEZONE
BEGIN:VEVENT
UID:1958935@cmfhawaii.org
DTSTAMP:20260421T154550Z
DTSTART:20260426T100000
DTEND:20260426T110000
RRULE:FREQ=WEEKLY;BYDAY=SU
SUMMARY:Traditional Latin Mass
DESCRIPTION:Blessed Sacrament Church Confession and the recitation of the 
 rosary start at 9:15
END:VEVENT
BEGIN:VEVENT
UID:1980263@cmfhawaii.org
DTSTAMP:20260421T154550Z
DTSTART:20260422T173000
DTEND:20260422T183000
RRULE:FREQ=WEEKLY;BYDAY=WE
EXDATE:20230712T173000,20230726T173000
SUMMARY:Blessed Sacrament Holy Hour\, Benediction and Confession
DESCRIPTION:Confession from 5:30 to 6:00 pm
END:VEVENT
BEGIN:VEVENT
UID:1980264@cmfhawaii.org
DTSTAMP:20260421T154550Z
DTSTART:20260422T183000
DTEND:20260422T191500
RRULE:FREQ=WEEKLY;BYDAY=WE
EXDATE:20230712T183000,20230726T183000,20240110T183000
SUMMARY:Blessed Sacrament Mass
END:VEVENT
BEGIN:VEVENT
UID:2318476@cmfhawaii.org
DTSTAMP:20260421T154550Z
DTSTART:20260515T183000
DTEND:20260515T203000
RRULE:FREQ=MONTHLY;BYDAY=FR;BYSETPOS=3
EXDATE:20240315T183000,20250321T183000,20250321T183000,20250718T183000
SUMMARY:Rosary at the Beach
DESCRIPTION:Dinner at 6:30 pm Rosary at 7:15 pm
END:VEVENT
BEGIN:VEVENT
UID:2359568@cmfhawaii.org
DTSTAMP:20260421T154550Z
DTSTART:20260518T180000
DTEND:20260518T190000
RRULE:FREQ=MONTHLY;BYDAY=MO;BYSETPOS=3
EXDATE:20251020T180000
SUMMARY:Catholic Men's Fellowship of Hawaii Adoration & Confession
DESCRIPTION:Adoration and confession with CMFH Chaplain Fr. Arrion Rosales
 -Llantos
END:VEVENT
END:VCALENDAR
